BEGIN:VCALENDAR
VERSION:2.0
PRODID:-//ChamberMaster//Event Calendar 2.0//EN
METHOD:PUBLISH
X-PUBLISHED-TTL:P3D
REFRESH-INTERVAL:P3D
CALSCALE:GREGORIAN
BEGIN:VEVENT
DTSTART:20211208T213000Z
DTEND:20211209T000000Z
X-MICROSOFT-CDO-ALLDAYEVENT:FALSE
SUMMARY:3rd Annual Malta Food Fest
DESCRIPTION:The Saratoga County Chamber is looking forward to hosting the 3nd Annual Malta Food Fest\, on Wednesday\, December 8th\,  at HVCC's TEC-SMART facility in Malta.   Attendees will have the opportunity to sample delicious offerings\, packaged in grab and go containers\, from some of the best restaurants in Malta\, Ballston Spa and surrounding communities.  All required safety protocols and social distancing guidelines will be followed\, as this will be CURBSIDE PICK UP again for this year. \n\n\n\nNo need to hurry home to cook dinner while you have holiday shopping to get to!  Click Here to learn more!!\n\nTo visit their Silent Auction please visit this link!
X-ALT-DESC;FMTTYPE=text/html:The Saratoga County Chamber is looking forward to hosting the 3nd Annual Malta Food Fest\, on Wednesday\, December 8th\, &nbsp\;at HVCC&#39\;s TEC-SMART facility in Malta.&nbsp\; &nbsp\;Attendees will have the opportunity to sample delicious offerings\, packaged in grab and go containers\, from some of the best restaurants in Malta\, Ballston Spa and surrounding communities. &nbsp\;All required safety protocols and social distancing guidelines will be followed\, as this will be CURBSIDE PICK UP again for this year.&nbsp\;<br />\n<br />\nNo need to hurry home to cook dinner while you have holiday shopping to get to!&nbsp\; <a href="https://www.simpletix.com/e/3rd-annual-malta-food-fest-tickets-82534">Click Here</a> to learn more!!<br />\nTo visit their Silent Auction please visit this<a href="https://www.32auctions.com/organizations/79411/auctions/116269?r=1&amp\;t=all"> link</a>!
LOCATION:
UID:e.2254.41741
SEQUENCE:3
DTSTAMP:20260421T205821Z
URL:https://dev.saratoga.org/events/details/3rd-annual-malta-food-fest-41741
END:VEVENT

END:VCALENDAR
