BEGIN:VCALENDAR
VERSION:2.0
PRODID:-//ChamberMaster//Event Calendar 2.0//EN
METHOD:PUBLISH
X-PUBLISHED-TTL:P3D
REFRESH-INTERVAL:P3D
CALSCALE:GREGORIAN
BEGIN:VEVENT
DTSTART:20220304T170000Z
DTEND:20220304T173000Z
X-MICROSOFT-CDO-ALLDAYEVENT:FALSE
SUMMARY:Brasserie Benelux Ribbon Cutting
DESCRIPTION:Join the Saratoga County Chamber in welcoming Brasserie Benelux to Broadway!   We are happy to announce that we are able to host their cutting after a very busy first season of being open downtown!  \nBrasserie Benelux is a casual\, European-inspired neighborhood 135 seat restaurant with a private event room located on Broadway in the center of historic downtown Saratoga Springs\, New York.  Join us for some Belgian Beer\, Wine\, and food samples compliments of Chef Armand! \n\nChef Armand Vanderstigchel (USA born)\, the son of a Dutch immigrant\, who also lived in the Netherlands for 17 years\, has turned his focus on Benelux Cuisine\, or more specifically\, regional Belgian and Dutch food culture\, expanding into German\, Austrian\, Polish\, Belarusian\, Alsatian\, Czech\, Scandinavian and local American intonations stemming from the Hudson Valley and Adirondacks.
X-ALT-DESC;FMTTYPE=text/html:<span style="font-size:12px\;"><span style="font-family:arial\;">Join the Saratoga County Chamber in welcoming Brasserie Benelux to Broadway!&nbsp\; &nbsp\;We are happy to announce that we are able to host their cutting after a very busy first season of being open downtown!&nbsp\;&nbsp\;</span></span>\n<p style="box-sizing: border-box\; margin: 0px 0px 15px\; padding: 0px\; font-family: Nunito\, sans-serif\; font-size: 16px\; line-height: 1.4\; text-rendering: optimizelegibility\; color: rgb(44\, 51\, 61)\; background-color: rgb(255\, 255\, 255)\;"><span style="font-size:12px\;"><span style="font-family:arial\;">Brasserie Benelux is a casual\, European-inspired neighborhood 135 seat restaurant with a private event room located on Broadway in the center of historic downtown Saratoga Springs\, New York.&nbsp\; <strong>Join us for some Belgian Beer\, Wine\, and food samples compliments of Chef Armand!&nbsp\;</strong></span></span></p>\n\n<p style="box-sizing: border-box\; margin: 0px 0px 15px\; padding: 0px\; font-family: Nunito\, sans-serif\; font-size: 16px\; line-height: 1.4\; text-rendering: optimizelegibility\; color: rgb(44\, 51\, 61)\; background-color: rgb(255\, 255\, 255)\;"><span style="font-size:12px\;"><span style="font-family:arial\;"><span style="box-sizing: border-box\; display: inline-block\;">Chef Armand Vanderstigchel (USA born)\, the son of a Dutch immigrant\, who also lived in the Netherlands for 17 years\, has turned his focus on Benelux Cuisine\, or more specifically\, regional Belgian and Dutch food culture\, expanding into German\, Austrian\, Polish\, Belarusian\, Alsatian\, Czech\, Scandinavian and local American intonations stemming from the Hudson Valley and Adirondacks.</span></span></span></p>\n<br />\n<br />\n&nbsp\;
LOCATION:475 Broadway Saratoga Springs\, NY 12866
UID:e.2254.41754
SEQUENCE:3
DTSTAMP:20260421T170947Z
URL:https://dev.saratoga.org/events/details/brasserie-benelux-ribbon-cutting-41754
END:VEVENT

END:VCALENDAR
