BEGIN:VCALENDAR
VERSION:2.0
PRODID:-//ChamberMaster//Event Calendar 2.0//EN
METHOD:PUBLISH
X-PUBLISHED-TTL:P3D
REFRESH-INTERVAL:P3D
CALSCALE:GREGORIAN
BEGIN:VEVENT
DTSTART:20211206T193000Z
DTEND:20211206T200000Z
X-MICROSOFT-CDO-ALLDAYEVENT:FALSE
SUMMARY:Bucknam & Conley Ribbon Cutting
DESCRIPTION:The Bucknam & Conley team and the Saratoga County Chamber will be hosting a celebratory ribbon cutting to announce Bucknam & Conley's new office space! \n\n  \n\nThe ribbon cutting will take place at 2:30pm and be followed by an open house until 5:30pm. Please feel free to stop in at your leisure and enjoy some food and beverages!
X-ALT-DESC;FMTTYPE=text/html:<p class="paragraph" style="margin:0in\;vertical-align:baseline"><span class="normaltextrun">The Bucknam &amp\; Conley team and the Saratoga County Chamber will be hosting a celebratory ribbon cutting to announce Bucknam &amp\; Conley&#39\;s new office space!&nbsp\;</span><o:p></o:p></p>\n\n<p class="paragraph" style="margin:0in\;vertical-align:baseline\;user-select: text\;\n-webkit-user-drag: none\;-webkit-tap-highlight-color: transparent\;overflow-wrap: break-word\;\nfont-kerning: none"><span class="normaltextrun">&nbsp\;</span><span class="eop">&nbsp\;</span><o:p></o:p></p>\n\n<p class="paragraph" style="margin:0in\;vertical-align:baseline\;user-select: text\;\n-webkit-user-drag: none\;-webkit-tap-highlight-color: transparent\;overflow-wrap: break-word\;\nfont-kerning: none"><span class="normaltextrun">The ribbon cutting will take place at 2:30pm and be followed by an open house until 5:30pm. Please feel free to stop in at your leisure and enjoy some food and beverages!&nbsp\;</span><o:p></o:p></p>\n
LOCATION:18 Division Street Suite #207A Saratoga Springs\, NY
UID:e.2254.41742
SEQUENCE:3
DTSTAMP:20260421T205823Z
URL:https://dev.saratoga.org/events/details/bucknam-conley-ribbon-cutting-41742
END:VEVENT

END:VCALENDAR
