BEGIN:VCALENDAR
VERSION:2.0
PRODID:-//ChamberMaster//Event Calendar 2.0//EN
METHOD:PUBLISH
X-PUBLISHED-TTL:P3D
REFRESH-INTERVAL:P3D
CALSCALE:GREGORIAN
BEGIN:VEVENT
DTSTART:20220609T170000Z
DTEND:20220609T180000Z
X-MICROSOFT-CDO-ALLDAYEVENT:FALSE
SUMMARY:Cartier Real Estate Group & Cartier Construction Co. Ribbon Cutting
DESCRIPTION:Join the Saratoga County Chamber in celebrating the brand new and expanded office space for Cartier Real Estate Group & Cartier Construction Co.!!
X-ALT-DESC;FMTTYPE=text/html:Join the Saratoga County Chamber in celebrating the brand new and expanded office space for Cartier Real Estate Group &amp\; Cartier Construction Co.!!
LOCATION:116 West Ave Suite 100 Saratoga Springs\, NY 12866
UID:e.2254.41784
SEQUENCE:3
DTSTAMP:20260421T131404Z
URL:https://dev.saratoga.org/events/details/cartier-real-estate-group-cartier-construction-co-ribbon-cutting-41784
END:VEVENT

END:VCALENDAR
