BEGIN:VCALENDAR
VERSION:2.0
PRODID:-//ChamberMaster//Event Calendar 2.0//EN
METHOD:PUBLISH
X-PUBLISHED-TTL:P3D
REFRESH-INTERVAL:P3D
CALSCALE:GREGORIAN
BEGIN:VEVENT
DTSTART:20220622T150000Z
DTEND:20220622T160000Z
X-MICROSOFT-CDO-ALLDAYEVENT:FALSE
SUMMARY:Compliments to the Chef\, LLC Anniversary Ribbon Cutting!
DESCRIPTION:Join the Saratoga County Chamber and Compliments to the Chef in celebrating their 20th year in business in Saratoga Springs!
X-ALT-DESC;FMTTYPE=text/html:Join the Saratoga County Chamber and Compliments to the Chef in celebrating their 20th year in business in Saratoga Springs!
LOCATION:33 Railroad Place Ste. 104 Saratoga Springs\, NY 12866
UID:e.2254.41788
SEQUENCE:3
DTSTAMP:20260421T131225Z
URL:https://dev.saratoga.org/events/details/compliments-to-the-chef-llc-anniversary-ribbon-cutting-41788
END:VEVENT

END:VCALENDAR
