BEGIN:VCALENDAR
VERSION:2.0
PRODID:-//ChamberMaster//Event Calendar 2.0//EN
METHOD:PUBLISH
X-PUBLISHED-TTL:P3D
REFRESH-INTERVAL:P3D
CALSCALE:GREGORIAN
BEGIN:VEVENT
DTSTART:20220414T180000Z
DTEND:20220414T190000Z
X-MICROSOFT-CDO-ALLDAYEVENT:FALSE
SUMMARY:Cooley Kill Restaurant & Bar Ribbon Cutting
DESCRIPTION:Join the Saratoga County Chamber and the Capital Region Chamber together in celebrating the new restaurant and bar\, Cooley Kill Restaurant & Bar\, opening up at the Van Patten Golf Course!
X-ALT-DESC;FMTTYPE=text/html:Join the Saratoga County Chamber and the Capital Region Chamber together in celebrating the new restaurant and bar\, Cooley Kill Restaurant &amp\; Bar\, opening up at the Van Patten Golf Course!&nbsp\;
LOCATION:924 Main Street Clifton Park\, NY 12065
UID:e.2254.41769
SEQUENCE:3
DTSTAMP:20260421T153827Z
URL:https://dev.saratoga.org/events/details/cooley-kill-restaurant-bar-ribbon-cutting-41769
END:VEVENT

END:VCALENDAR
