BEGIN:VCALENDAR
VERSION:2.0
PRODID:-//ChamberMaster//Event Calendar 2.0//EN
METHOD:PUBLISH
X-PUBLISHED-TTL:P3D
REFRESH-INTERVAL:P3D
CALSCALE:GREGORIAN
BEGIN:VEVENT
DTSTART:20211208T170000Z
DTEND:20211208T180000Z
X-MICROSOFT-CDO-ALLDAYEVENT:FALSE
SUMMARY:Creative Sprouts Ribbon Cutting
DESCRIPTION:Join the Saratoga County Chamber in welcoming Creative Sprouts Childcare after their grand opening this past November!
X-ALT-DESC;FMTTYPE=text/html:Join the Saratoga County Chamber in welcoming Creative Sprouts Childcare after their grand opening this past November!&nbsp\;
LOCATION:Creative Sprouts Childcare 3 Hampstead Place Ste 105 Saratoga Springs\, NY 12866
UID:e.2254.41740
SEQUENCE:3
DTSTAMP:20260421T205719Z
URL:https://dev.saratoga.org/events/details/creative-sprouts-ribbon-cutting-41740
END:VEVENT

END:VCALENDAR
