BEGIN:VCALENDAR
VERSION:2.0
PRODID:-//ChamberMaster//Event Calendar 2.0//EN
METHOD:PUBLISH
X-PUBLISHED-TTL:P3D
REFRESH-INTERVAL:P3D
CALSCALE:GREGORIAN
BEGIN:VEVENT
DTSTART:20220121T133000Z
DTEND:20220121T143000Z
X-MICROSOFT-CDO-ALLDAYEVENT:FALSE
SUMMARY:Fiber City Saratoga Springs
DESCRIPTION:Join Chamber President Todd Shimkus on Friday\, January 21\, 2022 at 8:30 am for a special virtual (zoom) meeting with guests from SiFi Networks\, the technology company behind the $32 million Saratoga Spring's FiberCity  project.  \n\nHear all about how Saratoga Springs will have the fastest internet in US\, increased capacity to move data\, help transform Saratoga Springs into a Smart City\, attract more talent\, and the many other benefits of being the first all-fiber open access network in New York. This will be an open dialogue with plenty of time for member Q&A. \n\nSaratoga Springs FiberCity  is being built citywide\, meaning it will pass each and every home and business. The all-fiber network is privately funded (no cost to taxpayers)\, built and operated by SiFi Networks and is open access to enable numerous internet service providers to deliver gigabit internet services. \n\n\n\nGuest speakers\, including Joseph A. Patton\, President of Wholesale Sales for SiFi Networks\n\n  and Bob Knight\, Spokesman for SiFi Networks and national Broadband expert\, will discuss the multitude of benefits businesses can gain -- think security\, productivity\, employee satisfaction\, e-commerce\, collaboration\, cost reductions\, etc. To learn more about FiberCities \, click here.
X-ALT-DESC;FMTTYPE=text/html:<p class="xmsonormal"><span style="color: black\;">Join Chamber President Todd Shimkus on Friday\, January 21\, 2022 at 8:30 am for a special virtual (zoom) meeting with guests from SiFi Networks\, the technology company behind the $32 million&nbsp\;<a href="https://sifinetworks.com/residential/cities/saratoga-springs-ny/?fbclid=IwAR0iNd9sfAo94bOh11ChW9l4hZApoCK3CI2Xt4RaYXijs8jpQdYs4G0jDT4">Saratoga Spring&rsquo\;s FiberCity</a>&reg\; project.&nbsp\;&nbsp\;</span><o:p></o:p></p>\n\n<p class="xmsonormal"><span style="color: black\;">Hear all about how Saratoga Springs will have the fastest internet in US\, increased capacity to move data\, help transform Saratoga Springs into a Smart City\, attract more talent\, and the many other benefits of being the first all-fiber open access network in New York. This will be an open dialogue with plenty of time for member Q&amp\;A.&nbsp\;</span><o:p></o:p></p>\n\n<p class="xmsonormal" style="margin-bottom:22.5pt\;vertical-align:baseline"><span style="color: black\; background: white\;">Saratoga Springs FiberCity&reg\; is being built citywide\, meaning it will pass each and every home and business.&nbsp\;</span><span style="color: black\;">The all-fiber network is privately funded (no cost to taxpayers)\, built and operated by SiFi Networks and is open access to enable numerous internet service providers to deliver gigabit internet services.&nbsp\;</span><br />\n<br />\n<span style="color:black\;">Guest speakers\,&nbsp\;including&nbsp\;Joseph A. Patton\,&nbsp\;President of&nbsp\;Wholesale Sales for&nbsp\;</span><span style="color:black\;">SiFi Networks</span><br />\n<span style="color: black\;">&nbsp\; and Bob Knight\, Spokesman for SiFi Networks and national Broadband expert\, will discuss the multitude of benefits businesses can gain -- think security\, productivity\, employee satisfaction\, e-commerce\, collaboration\, cost reductions\, etc. To learn more about FiberCities&reg\;\,&nbsp\;</span><a href="https://sifinetworks.com/corporate/fibercity/"><span style="color: black\;">click here.</span></a><span style="color: black\;">&nbsp\;</span><o:p></o:p></p>\n
LOCATION:Zoom
UID:e.2254.41744
SEQUENCE:3
DTSTAMP:20260421T195452Z
URL:https://dev.saratoga.org/events/details/fiber-city-saratoga-springs-41744
END:VEVENT

END:VCALENDAR
