BEGIN:VCALENDAR
VERSION:2.0
PRODID:-//ChamberMaster//Event Calendar 2.0//EN
METHOD:PUBLISH
X-PUBLISHED-TTL:P3D
REFRESH-INTERVAL:P3D
CALSCALE:GREGORIAN
BEGIN:VEVENT
DTSTART:20220705T140000Z
DTEND:20220705T150000Z
X-MICROSOFT-CDO-ALLDAYEVENT:FALSE
SUMMARY:Glorious Real Estate Ribbon Cutting
DESCRIPTION:Join the Saratoga County Chamber in celebrating Glorious Day Real Estate\, a new boutique real estate office in Burnt Hills!
X-ALT-DESC;FMTTYPE=text/html:Join the Saratoga County Chamber in celebrating Glorious Day Real Estate\, a new boutique real estate office in Burnt Hills!&nbsp\;
LOCATION:763 Saratoga Road Burnt Hills\, NY 12027
UID:e.2254.41797
SEQUENCE:3
DTSTAMP:20260421T131055Z
URL:https://dev.saratoga.org/events/details/glorious-real-estate-ribbon-cutting-41797
END:VEVENT

END:VCALENDAR
