BEGIN:VCALENDAR
VERSION:2.0
PRODID:-//ChamberMaster//Event Calendar 2.0//EN
METHOD:PUBLISH
X-PUBLISHED-TTL:P3D
REFRESH-INTERVAL:P3D
CALSCALE:GREGORIAN
BEGIN:VEVENT
DTSTART:20220401T150000Z
DTEND:20220401T160000Z
X-MICROSOFT-CDO-ALLDAYEVENT:FALSE
SUMMARY:Hatsational Ribbon Cutting
DESCRIPTION:Join the Saratoga County Chamber in celebrating Hatsational on April 1st with their ribbon cutting!\n\nHatsational is excited to debut their new Flagship store at 506 Broadway Saratoga Springs\, NY.\n\n\n\nSave the date for Hatsational's Grand Opening Extravaganza Saturday April 9th from 4pm to 8pm.
X-ALT-DESC;FMTTYPE=text/html:&nbsp\;<br />\nJoin the Saratoga County Chamber in celebrating Hatsational on April 1st with their ribbon cutting!<br />\nHatsational is excited to debut their new Flagship store at 506 Broadway Saratoga Springs\, NY.<br />\n<br />\nSave the date for Hatsational&#39\;s Grand Opening&nbsp\;Extravaganza&nbsp\;Saturday April 9th from 4pm to 8pm.
LOCATION:506 Broadway Saratoga Springs\, NY
UID:e.2254.41764
SEQUENCE:3
DTSTAMP:20260421T153825Z
URL:https://dev.saratoga.org/events/details/hatsational-ribbon-cutting-41764
END:VEVENT

END:VCALENDAR
