BEGIN:VCALENDAR
VERSION:2.0
PRODID:-//ChamberMaster//Event Calendar 2.0//EN
METHOD:PUBLISH
X-PUBLISHED-TTL:P3D
REFRESH-INTERVAL:P3D
CALSCALE:GREGORIAN
BEGIN:VEVENT
DTSTART:20211208T213000Z
DTEND:20211209T003000Z
X-MICROSOFT-CDO-ALLDAYEVENT:FALSE
SUMMARY:Holiday Mixer
DESCRIPTION:The long awaited Holiday Chamber Mixer has returned!!! \n\n\n\nCome to Prime at Saratoga National to make those last networking connections and wish your friends a happy\, healthy and prosperous holiday season with outstanding service and hors d'Oeurvres from Prime and delicious cocktails!  This is a great way to meet someone new\, grow your circle of influence\, find new opportunities\, generate awareness for your business and connect with other local professionals all while having a very merry time! \n\n\n\nCDC Guidelines to be met by all attendees at the time of the mixer on 12/8.  Attendance will be capped to the first 150 registrants. Let's celebrate safely to all enjoy the upcoming exciting holiday season!
X-ALT-DESC;FMTTYPE=text/html:<span style="font-size:14px\;"><span style="font-family:times new roman\;">The long awaited Holiday Chamber Mixer has returned!!!&nbsp\;<br />\n<br />\nCome to Prime at Saratoga National to make those last networking connections and wish your friends a happy\, healthy and prosperous holiday season with outstanding service and hors d&#39\;Oeurvres from Prime and delicious cocktails!&nbsp\;&nbsp\;<span style="color: rgb(68\, 68\, 68)\; background-color: rgb(255\, 255\, 255)\;">This is a great way to meet someone new\, grow your circle of influence\, find new opportunities\, generate awareness for your business and connect with other local professionals all while having a very merry time!&nbsp\;</span><br />\n<br />\nCDC Guidelines to be met by all attendees at the time of the mixer on 12/8.&nbsp\; Attendance will be capped to the first 150 registrants. Let&#39\;s celebrate safely to all enjoy the upcoming exciting holiday season!&nbsp\;</span></span>
LOCATION:Prime at Saratoga National Golf Club 458 Union Ave Saratoga Springs\, NY 12866
UID:e.2254.41738
SEQUENCE:3
DTSTAMP:20260421T205730Z
URL:https://dev.saratoga.org/events/details/holiday-mixer-41738
END:VEVENT

END:VCALENDAR
