BEGIN:VCALENDAR
VERSION:2.0
PRODID:-//ChamberMaster//Event Calendar 2.0//EN
METHOD:PUBLISH
X-PUBLISHED-TTL:P3D
REFRESH-INTERVAL:P3D
CALSCALE:GREGORIAN
BEGIN:VEVENT
DTSTART:20220616T180000Z
DTEND:20220616T183000Z
X-MICROSOFT-CDO-ALLDAYEVENT:FALSE
SUMMARY:Kyle Magne State Farm Ribbon Cutting
DESCRIPTION:Join the Saratoga County Chamber to celebrate Kyle Magne with State Farm!  He is opening his new State Farm agency and is ready to serve Saratoga Springs and beyond!
X-ALT-DESC;FMTTYPE=text/html:Join the Saratoga County Chamber to celebrate Kyle Magne with State Farm!&nbsp\; He is opening his new State Farm agency and is ready to serve Saratoga Springs and beyond!
LOCATION:120 West Ave STE 102 Saratoga Springs\, NY 12866
UID:e.2254.41780
SEQUENCE:3
DTSTAMP:20260421T131124Z
URL:https://dev.saratoga.org/events/details/kyle-magne-state-farm-ribbon-cutting-41780
END:VEVENT

END:VCALENDAR
