BEGIN:VCALENDAR
VERSION:2.0
PRODID:-//ChamberMaster//Event Calendar 2.0//EN
METHOD:PUBLISH
X-PUBLISHED-TTL:P3D
REFRESH-INTERVAL:P3D
CALSCALE:GREGORIAN
BEGIN:VEVENT
DTSTART:20180907T220000Z
DTEND:20180908T000000Z
X-MICROSOFT-CDO-ALLDAYEVENT:FALSE
SUMMARY:Lake George Steamboat Company Rev It Up! Dinner and Dance Cruise
DESCRIPTION:Aboard the Lac du Saint Sacrement. Enjoy our unique Beale Street Buffet then get ready to "Rev it Up!" and dance and sing the night away! Bobby Dick and Susie Q will have everyone on their feet with music that makes everyone want to move and sing! The Beale Street Buffet consists of: Salad Bar\, BBQ Chicken\, Braised Short Ribs\, Battered Fish Fry\, Corn O'Brien\, Mashed Potatoes\, Rolls and butter\, Strawberry Shortcake for dessert.
X-ALT-DESC;FMTTYPE=text/html:Aboard the Lac du Saint Sacrement. Enjoy our unique Beale Street Buffet then get ready to &ldquo\;Rev it Up!&rdquo\; and dance and sing the night away! Bobby Dick and Susie Q will have everyone on their feet with music that makes everyone want to move and sing! The Beale Street Buffet consists of: Salad Bar\, BBQ Chicken\, Braised Short Ribs\, Battered Fish Fry\, Corn O&rsquo\;Brien\, Mashed Potatoes\, Rolls and butter\, Strawberry Shortcake for dessert.
LOCATION:Lake George Steamboat Company 57 Beach Road Lake George\, NY 12845
UID:e.2254.33999
SEQUENCE:3
DTSTAMP:20260423T235108Z
URL:https://dev.saratoga.org/events/details/lake-george-steamboat-company-rev-it-up-dinner-and-dance-cruise-33999
END:VEVENT

END:VCALENDAR
