BEGIN:VCALENDAR
VERSION:2.0
PRODID:-//ChamberMaster//Event Calendar 2.0//EN
METHOD:PUBLISH
X-PUBLISHED-TTL:P3D
REFRESH-INTERVAL:P3D
CALSCALE:GREGORIAN
BEGIN:VEVENT
DTSTART:20220422T150000Z
DTEND:20220422T160000Z
X-MICROSOFT-CDO-ALLDAYEVENT:FALSE
SUMMARY:Lily and David Ribbon Cuting
DESCRIPTION:Join the Chamber in celebrating the new storefront of Lily and David Jewelers! \n\n \n\nOwner\, David Blackmore has been in the industry for 42 years.  This storefront has been a lifelong dream of both his and his daughter's\, Allyssa Provost\, General Manager. The store is named after his first two grandchildren Madison "Lily" and Zachary "David".  Lily and David are a full service jeweler with the mission of continuing to be a jeweler for generations.
X-ALT-DESC;FMTTYPE=text/html:Join the Chamber in celebrating the new storefront of Lily and David Jewelers!&nbsp\;<br />\n&nbsp\;<br />\nOwner\, David Blackmore has been in the industry for 42 years.&nbsp\; This storefront has been a lifelong dream of both his and his daughter&#39\;s\, Allyssa Provost\, General Manager. The store is named after his first two grandchildren Madison &quot\;Lily&quot\; and Zachary &quot\;David&quot\;.&nbsp\; Lily and David are a full service jeweler with the mission of continuing&nbsp\;to be a jeweler for generations.
LOCATION:3076-1 Route 50 Saratoga Springs\, NY 12866
UID:e.2254.41760
SEQUENCE:3
DTSTAMP:20260421T153919Z
URL:https://dev.saratoga.org/events/details/lily-and-david-ribbon-cuting-41760
END:VEVENT

END:VCALENDAR
