BEGIN:VCALENDAR
VERSION:2.0
PRODID:-//ChamberMaster//Event Calendar 2.0//EN
METHOD:PUBLISH
X-PUBLISHED-TTL:P3D
REFRESH-INTERVAL:P3D
CALSCALE:GREGORIAN
BEGIN:VEVENT
DTSTART:20211221T160000Z
DTEND:20211221T163000Z
X-MICROSOFT-CDO-ALLDAYEVENT:FALSE
SUMMARY:Mazzone Hospitality at Prime at Saratoga National\, The Village at Prime Ribbon Cutting!
DESCRIPTION:Mazzone Hospitality at Saratoga National Golf Club will be opening a new outdoor dining area called The Village at Prime. It's a group of outdoor dining pods\, heated\, designed and solar-powered.  We cannot wait to celebrate it's opening with a ribbon cutting to a successful winter dining season!
X-ALT-DESC;FMTTYPE=text/html:<span style="font-size: 11pt\; font-family: &quot\;Century Gothic&quot\;\, sans-serif\;">Mazzone Hospitality at Saratoga National Golf Club will be opening a new outdoor dining area called The Village at Prime. It&#39\;s a group of outdoor dining pods\, heated\, designed and solar-powered.&nbsp\; We cannot wait to celebrate it&#39\;s opening with a ribbon cutting to a successful winter dining season!</span>
LOCATION:Prime at Saratoga National Golf Club 458 Union Avenue Saratoga Springs\, NY 12866
UID:e.2254.41746
SEQUENCE:3
DTSTAMP:20260421T210405Z
URL:https://dev.saratoga.org/events/details/mazzone-hospitality-at-prime-at-saratoga-national-the-village-at-prime-ribbon-cutting-41746
END:VEVENT

END:VCALENDAR
