BEGIN:VCALENDAR
VERSION:2.0
PRODID:-//ChamberMaster//Event Calendar 2.0//EN
METHOD:PUBLISH
X-PUBLISHED-TTL:P3D
REFRESH-INTERVAL:P3D
CALSCALE:GREGORIAN
BEGIN:VEVENT
DTSTART:20220203T160000Z
DTEND:20220203T170000Z
X-MICROSOFT-CDO-ALLDAYEVENT:FALSE
SUMMARY:Metabolic Fitness Ribbon Cutting
DESCRIPTION:Metabolic Ballston Spa is now open for business! Here at Metabolic\, we offer the area's best 45 minute strength training workout\, and a community that is second to none.Our Ballston Spa location is our 9th studio in New York State. We now have 6 studios in the Capital region\, and 3 studios in the Syracuse region\, and we've only just begun!
X-ALT-DESC;FMTTYPE=text/html:Metabolic Ballston Spa is now open for business! Here at Metabolic\, we offer the area&#39\;s best 45 minute strength training workout\, and a community that is second to none.Our Ballston Spa location is our 9th studio in New York State. We now have 6 studios in the Capital region\, and 3 studios in the Syracuse region\, and we&#39\;ve only just begun!<br />\n&nbsp\;
LOCATION:15 Trieble Avenue Ballston Spa\, NY 12020
UID:e.2254.41755
SEQUENCE:3
DTSTAMP:20260421T183647Z
URL:https://dev.saratoga.org/events/details/metabolic-fitness-ribbon-cutting-41755
END:VEVENT

END:VCALENDAR
