BEGIN:VCALENDAR
VERSION:2.0
PRODID:-//ChamberMaster//Event Calendar 2.0//EN
METHOD:PUBLISH
X-PUBLISHED-TTL:P3D
REFRESH-INTERVAL:P3D
CALSCALE:GREGORIAN
BEGIN:VEVENT
DTSTART:20220329T140000Z
DTEND:20220329T150000Z
X-MICROSOFT-CDO-ALLDAYEVENT:FALSE
SUMMARY:MWBE Certification in 2022
DESCRIPTION:The first in our Women in Leadership Series for 2022.\n\n\n\nIf you are considering MWBE (Minority Women Business Enterprise) Certification\, want to learn more about the process or are certified and want to learn about program updates to ensure you are taking full advantage of your certification\, you don't want to miss this informative session.\n\n\n\nPresenter:\n\n Kate Baker- Director\, NYS Small Business Development Center at the University at Albany. Kate is responsible for leading the Small Business Development Center in its efforts to support the small business community of the Capital Region. The center offers current and future entrepreneurs no-cost one-on-one business consulting services tailored to meet the needs of each client. Kate is a local expert on NYS MWBE certification and has been helping women entrepreneurs complete the certification process for nearly15 years.\n\n\n\n Representatives from CAP COM Federal Credit Union will also be on the call to offer options on credit union resources available to MWBE certified businesses and answer any questions.
X-ALT-DESC;FMTTYPE=text/html:<span style="font-family:times new roman\;"><span style="font-size:14px\;"><strong>The first in our Women in Leadership Series for 2022.</strong><br />\n<br />\nIf you are considering MWBE (Minority Women Business Enterprise) Certification\, want to learn more about the process or are certified and want to learn about program updates to ensure you are taking full advantage of your certification\, you don&#39\;t want to miss this informative session.</span><br />\n<br />\n<strong><em>Presenter:</em></strong><br />\n<span style="font-size:14px\;"><strong>&nbsp\;</strong><span style="background:white\;"><strong>Kate Baker- Director\, NYS Small Business Development Center at the University at Albany</strong>. Kate is responsible for leading the Small Business Development Center in its efforts to support the small business community of the Capital Region. The center offers current and future entrepreneurs no-cost one-on-one business consulting services tailored to meet the needs of each client. Kate is a local expert on NYS MWBE certification and has been helping women entrepreneurs complete the certification process for nearly15 years.</span></span><br />\n<br />\n<span style="font-size:14px\;">&nbsp\;Representatives from CAP COM Federal Credit Union will also be on the call to offer options on credit union resources available to MWBE certified businesses and answer any questions.</span></span><br />\n&nbsp\;
LOCATION:
UID:e.2254.41758
SEQUENCE:3
DTSTAMP:20260421T170645Z
URL:https://dev.saratoga.org/events/details/mwbe-certification-in-2022-41758
END:VEVENT

END:VCALENDAR
