BEGIN:VCALENDAR
VERSION:2.0
PRODID:-//ChamberMaster//Event Calendar 2.0//EN
METHOD:PUBLISH
X-PUBLISHED-TTL:P3D
REFRESH-INTERVAL:P3D
CALSCALE:GREGORIAN
BEGIN:VEVENT
DTSTART:20220128T153000Z
DTEND:20220128T160000Z
X-MICROSOFT-CDO-ALLDAYEVENT:FALSE
SUMMARY:Popeye's Ribbon Cutting
DESCRIPTION:Popeye's will be opening their doors and having a grand opening celebration on January 28th. \n\nThis store will be owned and operated by franchisee Laddi Singh\, who recently bought the Troy\, Schenectady\, and Central Ave Popeyes and just opened our newest location on 9W in Albany on 1/14. We will be raffling off iPads\, AirPods\, and TVs on our grand opening and look forward to being apart of the community!
X-ALT-DESC;FMTTYPE=text/html:Popeye&#39\;s will be opening their doors and having a grand opening celebration on January 28th.&nbsp\;<br />\nThis store will be owned and operated by franchisee Laddi Singh\, who recently bought the Troy\, Schenectady\, and Central Ave Popeyes and just opened our newest location on 9W in Albany on 1/14. We will be raffling off iPads\, AirPods\, and TVs on our grand opening and look forward to being apart of the community!
LOCATION:485 NY-146\, Halfmoon\, NY 12065
UID:e.2254.41752
SEQUENCE:3
DTSTAMP:20260421T195253Z
URL:https://dev.saratoga.org/events/details/popeye-s-ribbon-cutting-41752
END:VEVENT

END:VCALENDAR
