BEGIN:VCALENDAR
VERSION:2.0
PRODID:-//ChamberMaster//Event Calendar 2.0//EN
METHOD:PUBLISH
X-PUBLISHED-TTL:P3D
REFRESH-INTERVAL:P3D
CALSCALE:GREGORIAN
BEGIN:VEVENT
DTSTART;VALUE=DATE:20220217
DTEND;VALUE=DATE:20220225
TRANSP:TRANSPARENT
X-MICROSOFT-CDO-ALLDAYEVENT:TRUE
SUMMARY:Restaurant Week
DESCRIPTION:THIS SIGN UP IS FOR RESTAURANTS ONLY!\n\n\n\nSaratoga County Chamber Announces Save Our Locals Restaurant Week!\n\n \n\nTo help local restaurants across Saratoga County with cash flow in February\, the Saratoga County Chamber will host Save Our Locals Restaurant Week February 17 through February 24. This Restaurant Week will be unlike any before so that we can maximize the value of this promotion for every restaurant in Saratoga County.\n\n \n\nFirst\, it's free to participate. You just need to click here to register. Every restaurant in Saratoga County is invited to participate.\n\n \n\nSecond\, you can register to offer dine-in\, take-out\, and family style meals. This can be for breakfast\, lunch and/or dinner.\n\n \n\nThird\, you can set your own prices. We know food costs have skyrocketed. The same is true for the packaging you must buy for take-out. If you want to offer discounted prices\, that's great. But we will be promoting this as a way for local people to save our local restaurants so discounted meals is NOT the focus.\n\n \n\nFourth - - and this is mandatory - - we need your menu's\, specials\, and pricing by January 28th at 12 noon. Please register\, then send your menu and pricing to Andrea Cole at ACole@Saratoga.Org.  Because we are offering you total flexibility\, we must have this information to accurately share with the public what they can get and what they will pay at each participating restaurant. If there is a phone number or website where people must go to make a reservation\, we need to know.\n\n \n\nOptional - - If you can\, we'd love to get a $50 or $100 gift card from you. We will be asking people who take part in this restaurant week to email us their receipts. We will use the gift cards to reward those who actually spend money in our local restaurants during this week just as we did with our Holiday Save Our Locals campaign.\n\n \n\nThe Saratoga County Chamber continues to take action wherever we can to help local businesses to succeed\, grow and thrive. We hope that this latest effort and the flexibility we are providing will make it possible for you to participate and to benefit from this latest action. We're here to help!!!\n\n\n\nPlease email Andrea Cole at ACole@Saratoga.Org with your Menus/Pricing\, Online Reservation links and Logo by January 28th. All listings will be first come first serve on the website.
X-ALT-DESC;FMTTYPE=text/html:<br />\nTHIS SIGN UP IS FOR RESTAURANTS ONLY!<br />\n<br />\nSaratoga County Chamber Announces Save Our Locals Restaurant Week!<br />\n&nbsp\;<br />\nTo help local restaurants across Saratoga County with cash flow in February\, the Saratoga County Chamber will host&nbsp\;<em><strong>Save Our Locals Restaurant Week February 17 through February 24</strong></em>. This Restaurant Week will be unlike any before so that we can maximize the value of this promotion for every restaurant in Saratoga County.<br />\n&nbsp\;<br />\n<strong>First</strong>\, it&rsquo\;s free to participate. You just need to click here to register. Every restaurant in Saratoga County is invited to participate.<br />\n&nbsp\;<br />\n<strong>Second</strong>\, you can register to offer dine-in\, take-out\, and family style meals. This can be for breakfast\, lunch and/or dinner.<br />\n&nbsp\;<br />\n<strong>Third</strong>\, you can set your own prices. We know food costs have skyrocketed. The same is true for the packaging you must buy for take-out. If you want to offer discounted prices\, that&rsquo\;s great. But we will be promoting this as a way for local people to save our local restaurants so discounted meals is NOT the focus.<br />\n&nbsp\;<br />\n<strong>Fourth</strong> - - and this is mandatory - - <strong>we need your menu&rsquo\;s\, specials\, and pricing by January 28<sup>th</sup> at 12 noon.</strong> Please register\, then send your menu and pricing to Andrea Cole at ACole@Saratoga.Org.&nbsp\; Because we are offering you total flexibility\, we must have this information to accurately share with the public what they can get and what they will pay at each participating restaurant. If there is a phone number or website where people must go to make a reservation\, we need to know.<br />\n&nbsp\;<br />\n<em><strong>Optional</strong></em> - - If you can\, we&rsquo\;d love to get a $50 or $100 gift card from you. We will be asking people who take part in this restaurant week to email us their receipts. We will use the gift cards to reward those who actually spend money in our local restaurants during this week just as we did with our Holiday Save Our Locals campaign.<br />\n&nbsp\;<br />\nThe Saratoga County Chamber continues to take action wherever we can to help local businesses to succeed\, grow and thrive. We hope that this latest effort and the flexibility we are providing will make it possible for you to participate and to benefit from this latest action. We&rsquo\;re here to help!!!<br />\n<br />\n<span style="font-size:14px\;"><strong>Please email Andrea Cole at ACole@Saratoga.Org with your Menus/Pricing\, Online Reservation links and Logo by January 28th. All listings will be first come first serve on the website.&nbsp\;</strong></span>
LOCATION:Saratoga County Restaurants
UID:e.2254.41748
SEQUENCE:3
DTSTAMP:20260421T183322Z
URL:https://dev.saratoga.org/events/details/restaurant-week-41748
END:VEVENT

END:VCALENDAR
