BEGIN:VCALENDAR
VERSION:2.0
PRODID:-//ChamberMaster//Event Calendar 2.0//EN
METHOD:PUBLISH
X-PUBLISHED-TTL:P3D
REFRESH-INTERVAL:P3D
CALSCALE:GREGORIAN
BEGIN:VEVENT
DTSTART:20220503T180000Z
DTEND:20220503T210000Z
X-MICROSOFT-CDO-ALLDAYEVENT:FALSE
SUMMARY:Reverse Job Fair
DESCRIPTION:Join us as we flip the format of a traditional job fair\, for "Turning The Tables: A Reverse Job Fair"!\n\nWe invite employers to visit table-to-table\, asking questions to various organizations and the people they support who are actively seeking employment.\n\n\n\nEmployers who are actively hiring can:\n\n	Talk to job candidates LIVE and learn more about their skills\n	Utilize supporting organizations as on-the-spot references\n	Have access to multiple ready-to-hire employees all in one location\n	Fill your summer job openings with viable candidates\n\n\n\nThis Job Fair is hosted by AIM Services\, Saratoga Bridges and The Saratoga County Chamber of Commerce
X-ALT-DESC;FMTTYPE=text/html:Join us as we flip the format of a traditional job fair\, for &quot\;Turning The Tables: A Reverse Job Fair&quot\;!<br />\nWe invite employers to visit table-to-table\, asking questions to various organizations and the people they support who are actively seeking employment.<br />\n<br />\nEmployers who are actively hiring can:\n<ul>\n	<li>Talk to job candidates LIVE and learn more about their skills</li>\n	<li>Utilize supporting organizations as on-the-spot references</li>\n	<li>Have access to multiple ready-to-hire employees all in one location</li>\n	<li>Fill your summer job openings with viable candidates</li>\n</ul>\n<br />\nThis Job Fair is hosted by AIM Services\, Saratoga Bridges and The Saratoga County Chamber of Commerce&nbsp\;
LOCATION:The Embassy Suites 86 Congress Street Saratoga Springs\, NY 1286
UID:e.2254.41777
SEQUENCE:3
DTSTAMP:20260421T142512Z
URL:https://dev.saratoga.org/events/details/reverse-job-fair-05-03-2022-41777
END:VEVENT

END:VCALENDAR
