BEGIN:VCALENDAR
VERSION:2.0
PRODID:-//ChamberMaster//Event Calendar 2.0//EN
METHOD:PUBLISH
X-PUBLISHED-TTL:P3D
REFRESH-INTERVAL:P3D
CALSCALE:GREGORIAN
BEGIN:VEVENT
DTSTART:20220429T160000Z
DTEND:20220429T170000Z
X-MICROSOFT-CDO-ALLDAYEVENT:FALSE
SUMMARY:Samantha Nass Floral Design LLC Ribbon Cutting
DESCRIPTION:Samantha Nass Floral Design has moved to a brand new location in downtown Saratoga Springs\, and also has expanded her market from events to retail as well! Please join us to celebrate her brand new retail store and her new location at 61 Lawrence Street\, Saratoga Springs!
X-ALT-DESC;FMTTYPE=text/html:Samantha Nass Floral Design has moved to a brand new location in downtown Saratoga Springs\, and also has expanded her market from events to retail as well! Please join us to celebrate her brand new retail store and her new location at 61 Lawrence Street\, Saratoga Springs!&nbsp\;
LOCATION:61 Lawrence Street Saratoga Springs\, NY 12866
UID:e.2254.41772
SEQUENCE:3
DTSTAMP:20260421T154115Z
URL:https://dev.saratoga.org/events/details/samantha-nass-floral-design-llc-ribbon-cutting-41772
END:VEVENT

END:VCALENDAR
