BEGIN:VCALENDAR
VERSION:2.0
PRODID:-//ChamberMaster//Event Calendar 2.0//EN
METHOD:PUBLISH
X-PUBLISHED-TTL:P3D
REFRESH-INTERVAL:P3D
CALSCALE:GREGORIAN
BEGIN:VEVENT
DTSTART:20220713T163000Z
DTEND:20220713T170000Z
X-MICROSOFT-CDO-ALLDAYEVENT:FALSE
SUMMARY:Sapphire Spa Boutique Ribbon Cutting
DESCRIPTION:Join the Saratoga County Chamber in welcoming Sapphire Spa Boutique to Broadway in Saratoga Springs!  This is a brand new spa that has just recently opened their doors to downtown Saratoga.  Just in time for the beautiful\, busy season for the Saratoga Race Course!
X-ALT-DESC;FMTTYPE=text/html:Join the Saratoga County Chamber in welcoming Sapphire Spa Boutique to Broadway in Saratoga Springs!&nbsp\; This is a brand new spa that has just recently opened their doors to downtown Saratoga.&nbsp\; Just in time for the beautiful\, busy season for the Saratoga Race Course!&nbsp\;
LOCATION:219 Broadway Saratoga Springs\, NY 12866
UID:e.2254.41801
SEQUENCE:3
DTSTAMP:20260421T115611Z
URL:https://dev.saratoga.org/events/details/sapphire-spa-boutique-ribbon-cutting-41801
END:VEVENT

END:VCALENDAR
