BEGIN:VCALENDAR
VERSION:2.0
PRODID:-//ChamberMaster//Event Calendar 2.0//EN
METHOD:PUBLISH
X-PUBLISHED-TTL:P3D
REFRESH-INTERVAL:P3D
CALSCALE:GREGORIAN
BEGIN:VEVENT
DTSTART:20211214T133000Z
DTEND:20211214T142500Z
X-MICROSOFT-CDO-ALLDAYEVENT:FALSE
SUMMARY:Saratoga County Chamber HR Council Meeting
DESCRIPTION:Please mark your calendars and sign up today for our upcoming Legal Update for our Saratoga County Chamber HR Council\, presented to you by our speaker\, Mike Billok\, of Bond Schoeneck & King!\n\nOur next session is scheduled for a zoom meeting on Tuesday December 14\, 8:30am to 9:30am.  Please find below a registration link via Eventbrite. \n\n Mike Billok will be discussing a number of great topics. This will include the latest and most pressing news on the following:\n\nVaccination requirements in New York State\n\nPaid Family Leave\n\nCannabis/Marijuana trends in the workplace\n\nWhat is on the horizon for 2022\n\n  \n\nBring your questions and your coffee mugs and get ready to wrap up 2021 with some great information from Mike Billok and the professionals at Bond Schoeneck & King .\n\n\n https://www.eventbrite.com/e/saratoga-county-chamber-of-commerce-quarterly-hr-council-meeting-1214-registration-212621054297
X-ALT-DESC;FMTTYPE=text/html:<p class="xmsonormal">Please mark your calendars and sign up today for our upcoming Legal Update for our Saratoga County Chamber HR Council\, presented to you by our speaker\, Mike Billok\, of Bond Schoeneck &amp\; King!</p>\n\n<p class="xmsonormal">Our next session is scheduled for a zoom meeting on Tuesday December 14\, 8:30am to 9:30am.&nbsp\; Please find below a registration link via Eventbrite.&nbsp\;<o:p></o:p></p>\n\n<p class="xmsonormal">&nbsp\;<o:p></o:p>Mike Billok will be discussing a number of great topics. This will include the latest and most pressing news on the following:<o:p></o:p></p>\n\n<p class="xmsonormal">Vaccination requirements in New York State<o:p></o:p></p>\n\n<p class="xmsonormal">Paid Family Leave<o:p></o:p></p>\n\n<p class="xmsonormal">Cannabis/Marijuana trends in the workplace<o:p></o:p></p>\n\n<p class="xmsonormal">What is&nbsp\;on the horizon for 2022<o:p></o:p></p>\n\n<p class="xmsonormal">&nbsp\; <o:p></o:p></p>\n\n<p class="xmsonormal">Bring your questions and your coffee mugs and get ready to wrap up 2021 with some great information from Mike Billok and the professionals at Bond Schoeneck &amp\; King .<o:p></o:p></p>\n<br />\n<span style="font-family:calibri\,sans-serif\;"><span style="font-size:11.0pt\;">&nbsp\;<a href="https://www.eventbrite.com/e/saratoga-county-chamber-of-commerce-quarterly-hr-council-meeting-1214-registration-212621054297">https://www.eventbrite.com/e/saratoga-county-chamber-of-commerce-quarterly-hr-council-meeting-1214-registration-212621054297</a></span></span>
LOCATION:Zoom Please go to the Event Brite Link listed to register!
UID:e.2254.41735
SEQUENCE:3
DTSTAMP:20260421T210308Z
URL:https://dev.saratoga.org/events/details/saratoga-county-chamber-hr-council-meeting-41735
END:VEVENT

END:VCALENDAR
