BEGIN:VCALENDAR
VERSION:2.0
PRODID:-//ChamberMaster//Event Calendar 2.0//EN
METHOD:PUBLISH
X-PUBLISHED-TTL:P3D
REFRESH-INTERVAL:P3D
CALSCALE:GREGORIAN
BEGIN:VEVENT
DTSTART:20220412T140000Z
DTEND:20220412T150000Z
X-MICROSOFT-CDO-ALLDAYEVENT:FALSE
SUMMARY:Saratoga Signature Interior's Anniversary Ribbon Cutting
DESCRIPTION:Join the Saratoga County Chamber in celebrating Saratoga Signature Interiors' 30th year in business in Saratoga!
X-ALT-DESC;FMTTYPE=text/html:Join the Saratoga County Chamber in celebrating Saratoga Signature Interiors&#39\; 30th year in business in Saratoga!&nbsp\;
LOCATION:82 Church Street Saratoga Springs\, NY 12866
UID:e.2254.41767
SEQUENCE:3
DTSTAMP:20260421T154437Z
URL:https://dev.saratoga.org/events/details/saratoga-signature-interior-s-anniversary-ribbon-cutting-41767
END:VEVENT

END:VCALENDAR
