BEGIN:VCALENDAR
VERSION:2.0
PRODID:-//ChamberMaster//Event Calendar 2.0//EN
METHOD:PUBLISH
X-PUBLISHED-TTL:P3D
REFRESH-INTERVAL:P3D
CALSCALE:GREGORIAN
BEGIN:VEVENT
DTSTART:20220712T160000Z
DTEND:20220712T170000Z
X-MICROSOFT-CDO-ALLDAYEVENT:FALSE
SUMMARY:Siro's Ribbon Cutting
DESCRIPTION:Join the Saratoga County Chamber in welcoming the new ownership of Siro's\, and the reopening for the upcoming 2022 Racing Season! The Father-Son Duo of Peter and Jake Spitalny have redesigned Siro's\, with outdoor menu additions\, and welcoming the new chef\, Elliot Vogel! \n\n\n\n Siro's will be opened to the public starting on July 14th\, through September 5th.  It will be closed on Mondays/Tuesdays.
X-ALT-DESC;FMTTYPE=text/html:Join the Saratoga County Chamber in welcoming the new ownership of Siro&#39\;s\, and the reopening for the upcoming 2022 Racing Season! The Father-Son Duo of Peter and Jake Spitalny have redesigned Siro&#39\;s\, with outdoor menu additions\, and welcoming the new chef\, Elliot Vogel!&nbsp\;<br />\n<br />\n&nbsp\;Siro&#39\;s will be opened to the public starting on July 14th\, through September 5th.&nbsp\; It will be closed on Mondays/Tuesdays.&nbsp\;
LOCATION:168 Lincoln Avenue Saratoga Springs\, NY 12866
UID:e.2254.41798
SEQUENCE:3
DTSTAMP:20260421T130102Z
URL:https://dev.saratoga.org/events/details/siro-s-ribbon-cutting-41798
END:VEVENT

END:VCALENDAR
