BEGIN:VCALENDAR
VERSION:2.0
PRODID:-//ChamberMaster//Event Calendar 2.0//EN
METHOD:PUBLISH
X-PUBLISHED-TTL:P3D
REFRESH-INTERVAL:P3D
CALSCALE:GREGORIAN
BEGIN:VEVENT
DTSTART:20220610T163000Z
DTEND:20220610T170000Z
X-MICROSOFT-CDO-ALLDAYEVENT:FALSE
SUMMARY:Stack n Store Ribbon Cutting
DESCRIPTION:You are cordially invited to join us\, and other distinguished guests\, for the grand opening ceremony of Stack n Store's brand-new facility located in Milton\, NY.  This facility will be the first of three for the company! Stop by for tours\, refreshments\, and lots more!\n\nOur celebration begins at 12:30PM. We hope to see you there!
X-ALT-DESC;FMTTYPE=text/html:<br />\n<span style="font-family:calibri\,sans-serif\;"><span style="font-size:11.0pt\;">You are cordially invited to join us\, and other distinguished guests\, for the grand opening ceremony of Stack n Store&#39\;s brand-new facility located in Milton\, NY.&nbsp\; This facility will be the first of three for the company! Stop by for tours\, refreshments\, and lots more!<br />\nOur celebration begins at 12:30PM. We hope to see you there!</span></span>
LOCATION:885 Rock City Road Milton\, NY 12020
UID:e.2254.41756
SEQUENCE:3
DTSTAMP:20260421T130911Z
URL:https://dev.saratoga.org/events/details/stack-n-store-ribbon-cutting-41756
END:VEVENT

END:VCALENDAR
