BEGIN:VCALENDAR
VERSION:2.0
PRODID:-//ChamberMaster//Event Calendar 2.0//EN
METHOD:PUBLISH
X-PUBLISHED-TTL:P3D
REFRESH-INTERVAL:P3D
CALSCALE:GREGORIAN
BEGIN:VEVENT
DTSTART:20220505T170000Z
DTEND:20220505T180000Z
X-MICROSOFT-CDO-ALLDAYEVENT:FALSE
SUMMARY:Studio 219 Ribbon Cutting
DESCRIPTION:Join the Saratoga County Chamber in celebrating Studio 219 with their Grand Opening of their new salon!
X-ALT-DESC;FMTTYPE=text/html:Join the Saratoga County Chamber in celebrating Studio 219 with their Grand Opening of their new salon!&nbsp\;
LOCATION:219 Broadway Suite 1 Saratoga Springs\, NY 12866
UID:e.2254.41776
SEQUENCE:3
DTSTAMP:20260421T142338Z
URL:https://dev.saratoga.org/events/details/studio-219-ribbon-cutting-41776
END:VEVENT

END:VCALENDAR
