BEGIN:VCALENDAR
VERSION:2.0
PRODID:-//ChamberMaster//Event Calendar 2.0//EN
METHOD:PUBLISH
X-PUBLISHED-TTL:P3D
REFRESH-INTERVAL:P3D
CALSCALE:GREGORIAN
BEGIN:VEVENT
DTSTART:20220405T193000Z
DTEND:20220405T200000Z
X-MICROSOFT-CDO-ALLDAYEVENT:FALSE
SUMMARY:Tailored Real Estate Group Ribbon Cutting
DESCRIPTION:Tailored Real Estate Group is a brokerage made up of experienced agents providing complete real estate services throughout the Capital Region. \n\nWe are off to a strong start since opening at the end of 2021 and would love for you to join us to thank you for your support and celebrate our success.\n\nPlease join us at our official ribbon cutting\, followed by an open-house style reception in our office.
X-ALT-DESC;FMTTYPE=text/html:<p>Tailored Real Estate Group is a brokerage made up of experienced agents providing complete real estate services throughout the Capital Region. <o:p></o:p></p>\n\n<p>We are off to a strong start since opening at the end of 2021 and would love for you to join us to thank you for your support and celebrate our success.<o:p></o:p></p>\n\n<p>Please join us at our official ribbon cutting\, followed by an open-house style reception in our office.<o:p></o:p></p>\n
LOCATION:2452 Route 9\, Suite 306 Malta\, NY 12020
UID:e.2254.41766
SEQUENCE:3
DTSTAMP:20260421T154027Z
URL:https://dev.saratoga.org/events/details/tailored-real-estate-group-ribbon-cutting-41766
END:VEVENT

END:VCALENDAR
