BEGIN:VCALENDAR
VERSION:2.0
PRODID:-//ChamberMaster//Event Calendar 2.0//EN
METHOD:PUBLISH
X-PUBLISHED-TTL:P3D
REFRESH-INTERVAL:P3D
CALSCALE:GREGORIAN
BEGIN:VEVENT
DTSTART:20220401T170000Z
DTEND:20220401T180000Z
X-MICROSOFT-CDO-ALLDAYEVENT:FALSE
SUMMARY:The Blooming Artist and Rexford Landing Ribbon Cutting
DESCRIPTION:Join the Chamber as we celebrate the opening of The Blooming Artist Gallery and the new Rexford Landing- an upscale shopping plaza located at 675 Grooms Road in Clifton Park.  After the ribbon cutting\, get a preview of the new exhibit opening at The Blooming Artist and a tour of their fantastic art studio that offers a wide variety of art and pottery classes for all ages.
X-ALT-DESC;FMTTYPE=text/html:Join the Chamber as we celebrate the opening of The Blooming Artist Gallery and the new Rexford Landing- an upscale shopping plaza located at 675 Grooms Road in Clifton Park.&nbsp\; After the ribbon cutting\, get a preview of the new exhibit opening at The Blooming Artist and a tour of their fantastic art studio that offers a wide variety of art and pottery classes for all ages.<br />\n&nbsp\;
LOCATION:675 Grooms Road Clifton Park\, NY
UID:e.2254.41763
SEQUENCE:3
DTSTAMP:20260421T154444Z
URL:https://dev.saratoga.org/events/details/the-blooming-artist-and-rexford-landing-ribbon-cutting-41763
END:VEVENT

END:VCALENDAR
