BEGIN:VCALENDAR
VERSION:2.0
PRODID:-//ChamberMaster//Event Calendar 2.0//EN
METHOD:PUBLISH
X-PUBLISHED-TTL:P3D
REFRESH-INTERVAL:P3D
CALSCALE:GREGORIAN
BEGIN:VEVENT
DTSTART:20220324T160000Z
DTEND:20220324T170000Z
X-MICROSOFT-CDO-ALLDAYEVENT:FALSE
SUMMARY:The Brick at 2 West Ribbon Cutting
DESCRIPTION:Join the Saratoga County Chamber in welcoming the new family run restaurant\, The Brick at 2 West for their opening over this past winter season!   Stay to have lunch afterwards with their new lunch menu!
X-ALT-DESC;FMTTYPE=text/html:Join the Saratoga County Chamber in welcoming the new family run restaurant\, The Brick at 2 West for their opening over this past winter season!&nbsp\; &nbsp\;Stay to have lunch afterwards with their new lunch menu!
LOCATION:2 West Ave Saratoga Springs\, NY
UID:e.2254.41761
SEQUENCE:3
DTSTAMP:20260421T170809Z
URL:https://dev.saratoga.org/events/details/the-brick-at-2-west-ribbon-cutting-41761
END:VEVENT

END:VCALENDAR
