BEGIN:VCALENDAR
VERSION:2.0
PRODID:-//ChamberMaster//Event Calendar 2.0//EN
METHOD:PUBLISH
X-PUBLISHED-TTL:P3D
REFRESH-INTERVAL:P3D
CALSCALE:GREGORIAN
BEGIN:VEVENT
DTSTART:20221031T153000Z
DTEND:20221031T160000Z
X-MICROSOFT-CDO-ALLDAYEVENT:FALSE
SUMMARY:The Local 15th Anniversary
DESCRIPTION:Join the Saratoga County Chamber in celebrating The Local Pub & Teahouse's 15th Anniversary! \n\n\n\nLocated in the historic Dublin Neighborhood of Saratoga Springs' west side\, The Local Pub and Teahouse is a neighborhood bar/restaurant serving traditional English and Irish specialties with a unique selection of craft beers and organic teas from around the world.  Affectionately known as "The Local\," keeping with Irish tradition of referring to the closest neighborhood pub as "their local\," you will find friendly and attentive servers who quickly remember your name after a few visits.\n\n\n\nLunch special for the day will be $15 Fish and Chips!
X-ALT-DESC;FMTTYPE=text/html:<span style="font-family:arial\;"><span style="font-size:12px\;">Join the Saratoga County Chamber in celebrating The Local Pub &amp\; Teahouse&#39\;s 15th Anniversary!&nbsp\;<br />\n<br />\n<span style="text-align: center\; background-color: rgb(255\, 255\, 255)\;">Located in the historic Dublin Neighborhood of Saratoga Springs&#39\; west side\, The Local Pub and Teahouse is a neighborhood bar/restaurant serving traditional English and Irish specialties with a unique selection of craft beers and organic teas from around the world.&nbsp\; Affectionately known as &ldquo\;The Local\,&rdquo\; keeping with Irish tradition of referring to the closest neighborhood pub as &ldquo\;their local\,&rdquo\; you will find friendly and attentive servers who quickly remember your name after a few&nbsp\;visits.</span></span></span><br />\n<br />\nLunch special for the day will be $15 Fish and Chips!&nbsp\;
LOCATION:142 Grand Avenue Saratoga Springs\, NY 12866
UID:e.2254.41830
SEQUENCE:3
DTSTAMP:20260421T085627Z
URL:https://dev.saratoga.org/events/details/the-local-15th-anniversary-41830
END:VEVENT

END:VCALENDAR
