BEGIN:VCALENDAR
VERSION:2.0
PRODID:-//ChamberMaster//Event Calendar 2.0//EN
METHOD:PUBLISH
X-PUBLISHED-TTL:P3D
REFRESH-INTERVAL:P3D
CALSCALE:GREGORIAN
BEGIN:VEVENT
DTSTART:20180912T213000Z
DTEND:20180912T230000Z
X-MICROSOFT-CDO-ALLDAYEVENT:FALSE
SUMMARY:THE REAL TUMMY TUCK! A SEMINAR FOR YOU!
DESCRIPTION:When diet and exercise aren't enough to achieve the flatter\, toned stomach you're looking for\, The Real Tummy Tuck might be the procedure for you! Find out all the different options Dr. Polynice offers to help sculpt your abdomen.\n\n\n\nIf you have been considering a TummyTuck\, this seminar is for you!\n\n* Get all your questions answered by a board certified plastic surgeon.\n\n* See amazing real patient before and after photos.\n\n* Enjoy light refreshments and much more!\n\n\n\nReservations are required (518)786-7000.\n\n\n\nDr. Alain Polynice\, exclusive breast and body surgeon\, invites you to his informative and free Tummy Tuck Seminar on Septmeber 12th @ 5:30pm at his Latham\, NY location.
X-ALT-DESC;FMTTYPE=text/html:When diet and exercise aren&#39\;t enough to achieve the flatter\, toned stomach you&#39\;re looking for\, The Real Tummy Tuck might be the procedure for you! Find out all the different options Dr. Polynice offers to help sculpt your abdomen.<br />\n<br />\nIf you have been considering a <a class="_58cn" href="https://www.facebook.com/hashtag/tummytuck">TummyTuck</a>\, this seminar is for you!<br />\n* Get all your questions answered by a board certified plastic surgeon.<br />\n* See amazing real patient before and after photos.<br />\n* Enjoy light refreshments and much more!<br />\n<br />\nReservations are required (518)786-7000.<br />\n<br />\nDr. Alain Polynice\, exclusive breast and body surgeon\, invites you to his informative and free Tummy Tuck Seminar on Septmeber 12th @ 5:30pm at his Latham\, NY location.<br />\n&nbsp\;
LOCATION:1072 TROY SCHENECTADY RD LATHAM\, NY 12110
UID:e.2254.21878
SEQUENCE:3
DTSTAMP:20260423T233514Z
URL:https://dev.saratoga.org/events/details/the-real-tummy-tuck-a-seminar-for-you-21878
END:VEVENT

END:VCALENDAR
