BEGIN:VCALENDAR
VERSION:2.0
PRODID:-//ChamberMaster//Event Calendar 2.0//EN
METHOD:PUBLISH
X-PUBLISHED-TTL:P3D
REFRESH-INTERVAL:P3D
CALSCALE:GREGORIAN
BEGIN:VEVENT
DTSTART:20220930T170000Z
DTEND:20220930T180000Z
X-MICROSOFT-CDO-ALLDAYEVENT:FALSE
SUMMARY:The Speckled Pig Brewing Co. Ribbon Cutting
DESCRIPTION:Join the Saratoga County Chamber in welcoming Speckled Pig Brewery to Ballston Spa!\n\n\n\nA new\, NYS Farm Brewery and taproom located in the heart of the Village of Ballston Spa.  The Speckled Pig Brewing Co. offers artisan\, wood fired pizzas\, a large selection of our own beers along with our house made seltzer\, a hard cider and a few local wine options.   The taproom offers a stylish and comfortable place to relax and enjoy.
X-ALT-DESC;FMTTYPE=text/html:Join the Saratoga County Chamber in welcoming Speckled Pig Brewery to Ballston Spa!<br />\n<br />\nA new\, NYS Farm Brewery and taproom located in the heart of the Village of Ballston Spa.&nbsp\; The Speckled Pig Brewing Co. offers artisan\, wood fired pizzas\, a large selection of our own beers along with our house made seltzer\, a hard cider and a few local wine options.&nbsp\; &nbsp\;The taproom offers a stylish and comfortable place to relax and enjoy.&nbsp\;
LOCATION:11 Washington St Ballston Spa\, NY 12020
UID:e.2254.41819
SEQUENCE:3
DTSTAMP:20260421T090010Z
URL:https://dev.saratoga.org/events/details/the-speckled-pig-brewing-co-ribbon-cutting-41819
END:VEVENT

END:VCALENDAR
