BEGIN:VCALENDAR
VERSION:2.0
PRODID:-//ChamberMaster//Event Calendar 2.0//EN
METHOD:PUBLISH
X-PUBLISHED-TTL:P3D
REFRESH-INTERVAL:P3D
CALSCALE:GREGORIAN
BEGIN:VEVENT
DTSTART:20220216T150000Z
DTEND:20220216T153000Z
X-MICROSOFT-CDO-ALLDAYEVENT:FALSE
SUMMARY:The Village Tart Ribbon Cutting
DESCRIPTION:
X-ALT-DESC;FMTTYPE=text/html:
LOCATION:63 Broad Street Schuylerville\, NY 12871
UID:e.2254.41753
SEQUENCE:3
DTSTAMP:20260421T183722Z
URL:https://dev.saratoga.org/events/details/the-village-tart-ribbon-cutting-41753
END:VEVENT

END:VCALENDAR
