BEGIN:VCALENDAR
VERSION:2.0
PRODID:-//ChamberMaster//Event Calendar 2.0//EN
METHOD:PUBLISH
X-PUBLISHED-TTL:P3D
REFRESH-INTERVAL:P3D
CALSCALE:GREGORIAN
BEGIN:VEVENT
DTSTART:20220414T143000Z
DTEND:20220414T150000Z
X-MICROSOFT-CDO-ALLDAYEVENT:FALSE
SUMMARY:The Wind-Chill Factory & Mini-Golf Ribbon Cutting
DESCRIPTION:Join the Saratoga County Chamber in welcoming The Wind-Chill Factory and Mini-Golf with their grand opening ribbon cutting on April 14th!  They are open for business at 11am\, shortly after our cutting and celebration!\n\n\n\nThe Wind-Chill Factory & Mini Golf will have all the staples that everyone loves  top-quality food\, the best soft serve\, along with hard ice cream and the biggest addition of all   a newly renovated 18 hole Mini Golf Course to be complete this May! \n\n \n\nOwners Brandon and Keely Whalen are excited to be opening a second Wind-Chill location - the first being a favorite in Ticonderoga\, NY for the past 26 years.
X-ALT-DESC;FMTTYPE=text/html:Join the Saratoga County Chamber in welcoming The Wind-Chill Factory and Mini-Golf with their grand opening ribbon cutting on April 14th!&nbsp\; They are open for business at 11am\, shortly after our cutting and celebration!<br />\n<br />\n<span style="color:black\;">The Wind-Chill Factory &amp\; Mini Golf will have all the staples that everyone loves&mdash\; top-quality food\, the best soft serve\, along with hard ice cream and the biggest addition of all &mdash\; a newly renovated 18 hole Mini Golf Course to be complete this May! </span><br />\n&nbsp\;<br />\n<span style="color:black\;">Owners Brandon and Keely Whalen are excited to be opening a second Wind-Chill location - the first being a favorite in Ticonderoga\, NY for the past 26 years. </span><br />\n<br />\n&nbsp\;
LOCATION:3 Trieble Avenue Ballston Spa\, NY 12020
UID:e.2254.41762
SEQUENCE:3
DTSTAMP:20260421T154050Z
URL:https://dev.saratoga.org/events/details/the-wind-chill-factory-mini-golf-ribbon-cutting-41762
END:VEVENT

END:VCALENDAR
