BEGIN:VCALENDAR
VERSION:2.0
PRODID:-//ChamberMaster//Event Calendar 2.0//EN
METHOD:PUBLISH
X-PUBLISHED-TTL:P3D
REFRESH-INTERVAL:P3D
CALSCALE:GREGORIAN
BEGIN:VEVENT
DTSTART:20220525T160000Z
DTEND:20220525T170000Z
X-MICROSOFT-CDO-ALLDAYEVENT:FALSE
SUMMARY:Tiki Tours Saratoga Lake Ribbon Cutting
DESCRIPTION:Join the Saratoga County Chamber in celebrating the return of Tiki Tours on Saratoga Lake!! \n\n\n\nIf you are a member of the chamber\, they are offering complimentary tours now through May 26th!  For more information\, please call Greg Teresi at (800) 691-0770.
X-ALT-DESC;FMTTYPE=text/html:Join the Saratoga County Chamber in celebrating the return of Tiki Tours on Saratoga Lake!!&nbsp\;<br />\n<br />\n<span style="color:#FF0000\;">If you are a member of the chamber\, they are offering complimentary tours now through May 26th!&nbsp\; For more information\, please call Greg Teresi at (800) 691-0770.</span>
LOCATION:Lee's Park 1464 Route 9P Saratoga Springs\, NY 12866
UID:e.2254.41782
SEQUENCE:3
DTSTAMP:20260421T154444Z
URL:https://dev.saratoga.org/events/details/tiki-tours-saratoga-lake-ribbon-cutting-41782
END:VEVENT

END:VCALENDAR
