BEGIN:VCALENDAR
VERSION:2.0
PRODID:-//ChamberMaster//Event Calendar 2.0//EN
METHOD:PUBLISH
X-PUBLISHED-TTL:P3D
REFRESH-INTERVAL:P3D
CALSCALE:GREGORIAN
BEGIN:VEVENT
DTSTART:20220825T170000Z
DTEND:20220825T180000Z
X-MICROSOFT-CDO-ALLDAYEVENT:FALSE
SUMMARY:Unified Beerworks Ribbon Cutting
DESCRIPTION:Unified Beerworks has opened a kitchen in their taproom\, offering food six days a week to pair with their acclaimed beers!\n\n\n\nDeveloped by Unified's very own Chef Michele Hunter comes an incredible menu\, featuring delicious gourmet tacos\, salads\, and other Central and South American inspired fare using fresh\, locally-sourced ingredients.  Most items are also available as gluten free\, vegetarian\, or vegan upon request. \n\n\n\nView the full press release Here.
X-ALT-DESC;FMTTYPE=text/html:Unified Beerworks has opened a kitchen in their taproom\, offering food six days a week to pair with their acclaimed beers!<br />\n<br />\nDeveloped by Unified&#39\;s very own Chef Michele Hunter comes an incredible menu\, featuring delicious gourmet tacos\, salads\, and other Central and South American inspired fare using fresh\, locally-sourced ingredients.&nbsp\; Most items are also available as gluten free\, vegetarian\, or vegan upon request.&nbsp\;<br />\n<br />\n<a href="https://chambermaster.blob.core.windows.net/userfiles/UserFiles/chambers/2254/File/Press-Release-The-Kitchen-at-Unified-Beerworks.pdf">View the full press release Here.</a>
LOCATION:7 Stonebreak Road Suite 4 Malta\, NY 12020
UID:e.2254.41804
SEQUENCE:3
DTSTAMP:20260421T102602Z
URL:https://dev.saratoga.org/events/details/unified-beerworks-ribbon-cutting-41804
END:VEVENT

END:VCALENDAR
